BEGIN:VCALENDAR
VERSION:2.0
PRODID:-//ZUŠ Dubnica nad Váhom - ECPv6.15.12.2//NONSGML v1.0//EN
CALSCALE:GREGORIAN
METHOD:PUBLISH
X-WR-CALNAME:ZUŠ Dubnica nad Váhom
X-ORIGINAL-URL:https://www.zusdubnica.sk
X-WR-CALDESC:Udalosti pre ZUŠ Dubnica nad Váhom
REFRESH-INTERVAL;VALUE=DURATION:PT1H
X-Robots-Tag:noindex
X-PUBLISHED-TTL:PT1H
BEGIN:VTIMEZONE
TZID:Europe/Bratislava
BEGIN:DAYLIGHT
TZOFFSETFROM:+0100
TZOFFSETTO:+0200
TZNAME:CEST
DTSTART:20220327T010000
END:DAYLIGHT
BEGIN:STANDARD
TZOFFSETFROM:+0200
TZOFFSETTO:+0100
TZNAME:CET
DTSTART:20221030T010000
END:STANDARD
BEGIN:DAYLIGHT
TZOFFSETFROM:+0100
TZOFFSETTO:+0200
TZNAME:CEST
DTSTART:20230326T010000
END:DAYLIGHT
BEGIN:STANDARD
TZOFFSETFROM:+0200
TZOFFSETTO:+0100
TZNAME:CET
DTSTART:20231029T010000
END:STANDARD
BEGIN:DAYLIGHT
TZOFFSETFROM:+0100
TZOFFSETTO:+0200
TZNAME:CEST
DTSTART:20240331T010000
END:DAYLIGHT
BEGIN:STANDARD
TZOFFSETFROM:+0200
TZOFFSETTO:+0100
TZNAME:CET
DTSTART:20241027T010000
END:STANDARD
BEGIN:DAYLIGHT
TZOFFSETFROM:+0100
TZOFFSETTO:+0200
TZNAME:CEST
DTSTART:20250330T010000
END:DAYLIGHT
BEGIN:STANDARD
TZOFFSETFROM:+0200
TZOFFSETTO:+0100
TZNAME:CET
DTSTART:20251026T010000
END:STANDARD
END:VTIMEZONE
BEGIN:VEVENT
DTSTART;TZID=Europe/Bratislava:20241106T170000
DTEND;TZID=Europe/Bratislava:20241106T183000
DTSTAMP:20260426T053056
CREATED:20241103T193159Z
LAST-MODIFIED:20250210T223909Z
UID:21733-1730912400-1730917800@www.zusdubnica.sk
SUMMARY:Koncert učiteľov
DESCRIPTION:Milí priatelia\, srdečne Vás pozývame do Dubnického kaštieľa na umelecké popoludnie strávené pri klasickej\, ale i populárnej hudbe. V tento deň budete môcť zhliadnuť aj výtvarné diela našich pedagógov výtvarnych ateliérov.\nPo predstavení Vás čaká pohostenie vo forme recepcie. \nTešíme sa na Vás
URL:https://www.zusdubnica.sk/podujatie/koncert-ucitelov/
LOCATION:Dubnický kaštieľ\, Námestie sv. Jakuba 623/5\, Dubnica nad Váhom\, 01841\, Slovenská republika
CATEGORIES:Koncert
ATTACH;FMTTYPE=image/jpeg:https://www.zusdubnica.sk/wp-content/uploads/2024/11/Koncert_Ucitelov_2024_WEB_IG.jpg
END:VEVENT
BEGIN:VEVENT
DTSTART;TZID=Europe/Bratislava:20240621T170000
DTEND;TZID=Europe/Bratislava:20240621T180000
DTSTAMP:20260426T053056
CREATED:20240618T204831Z
LAST-MODIFIED:20240618T204838Z
UID:21444-1718989200-1718992800@www.zusdubnica.sk
SUMMARY:Koncert dvoch tried
DESCRIPTION:Pán učiteľ Siekel a pán učiteľ Kulišík srdečne pozývajú všetkých\, nielen rodinných príslušníkov svojich žiakov\, na záverečný triedny koncert. Uskutoční sa v Dubnickom kaštieli v piatok o 17:00 h. Príďte si oddýchnuť po náročnom pracovnom týždni a naladiť sa na prichádzajúci víkend! 🙂
URL:https://www.zusdubnica.sk/podujatie/koncert-dvoch-tried/
LOCATION:Dubnický kaštieľ\, Námestie sv. Jakuba 623/5\, Dubnica nad Váhom\, 01841\, Slovenská republika
CATEGORIES:Koncert
ATTACH;FMTTYPE=image/png:https://www.zusdubnica.sk/wp-content/uploads/2024/06/2024_koncert-2-tried-01.png
END:VEVENT
BEGIN:VEVENT
DTSTART;TZID=Europe/Bratislava:20240620T170000
DTEND;TZID=Europe/Bratislava:20240620T180000
DTSTAMP:20260426T053056
CREATED:20240617T203846Z
LAST-MODIFIED:20240618T204233Z
UID:21441-1718902800-1718906400@www.zusdubnica.sk
SUMMARY:Koncert absolventov 2024
DESCRIPTION:Milí milovníci hudby\, aj tento rok vás pozývame na záverečný koncert našich žiakov z končiacich ročníkov – absolventov. Tešiť sa môžete na spev\, lahodné tóny klavíra\, huslí či burácajúci akordeón. Absolventi sa vám predstavia už tento štvrtok v našej koncertnej sále. Srdečne pozývame! 🙂
URL:https://www.zusdubnica.sk/podujatie/koncert-absolventov-2024/
LOCATION:Koncertná sála ZUŠ\, Bratislavská 435/12\, Dubnica nad Váhom\, TN\, 01841
CATEGORIES:Koncert
ATTACH;FMTTYPE=image/jpeg:https://www.zusdubnica.sk/wp-content/uploads/2024/06/2024_absolventsky-koncert-01.jpg
END:VEVENT
BEGIN:VEVENT
DTSTART;TZID=Europe/Bratislava:20240606T163000
DTEND;TZID=Europe/Bratislava:20240606T180000
DTSTAMP:20260426T053056
CREATED:20240528T191727Z
LAST-MODIFIED:20240530T192306Z
UID:21425-1717691400-1717696800@www.zusdubnica.sk
SUMMARY:Klavírny koncert
DESCRIPTION:Popoludnie plné lahodných tónov klavíra vám prinesú žiačky a žiaci zo všetkých klavírnych tried nášho hudobného odboru na spoločnom koncerte. Príďte si vypočuť\, kam sa za rok so svojimi zručnosťami dostali\, už vo štvrtok 6. júna 2024 v koncertnej sále našej ZUŠ.
URL:https://www.zusdubnica.sk/podujatie/klavirny-koncert/
LOCATION:Koncertná sála ZUŠ\, Bratislavská 435/12\, Dubnica nad Váhom\, TN\, 01841
CATEGORIES:Koncert,Podujatia
ATTACH;FMTTYPE=image/png:https://www.zusdubnica.sk/wp-content/uploads/2024/05/2024-05-klavirny_web-01.png
END:VEVENT
BEGIN:VEVENT
DTSTART;TZID=Europe/Bratislava:20240602T163000
DTEND;TZID=Europe/Bratislava:20240602T180000
DTSTAMP:20260426T053056
CREATED:20240528T192313Z
LAST-MODIFIED:20240530T195812Z
UID:21428-1717345800-1717351200@www.zusdubnica.sk
SUMMARY:Dansation Dance Company Show
DESCRIPTION:Tanečné predstavenie žiačok a žiakov zo súboru moderného tanca Dansation Dance Company pod vedením pani učiteľky Tancerovej si budete môcť vychutnať v nedeľu 2. júna 2024 vo veľkej sále Domu kultúry Dubnica nad Váhom. Srdečne pozývame! 🙂
URL:https://www.zusdubnica.sk/podujatie/dansation-dance-company-show/
LOCATION:Dom kultúry Dubnica nad Váhom\, Bratislavská 435\, Dubnica nad Váhom\, 01841\, Slovenská republika
CATEGORIES:Podujatia
ATTACH;FMTTYPE=image/jpeg:https://www.zusdubnica.sk/wp-content/uploads/2024/05/2024-06-DDC-show-01.jpg
END:VEVENT
BEGIN:VEVENT
DTSTART;TZID=Europe/Bratislava:20240529T140000
DTEND;TZID=Europe/Bratislava:20240530T170000
DTSTAMP:20260426T053056
CREATED:20240430T064936Z
LAST-MODIFIED:20240524T111603Z
UID:21376-1716991200-1717088400@www.zusdubnica.sk
SUMMARY:Prijímacie talentové skúšky
DESCRIPTION:Milí milovníci umenia\, máte doma malého hudobníka\, speváka\, výtvarníka\, žurnalistu\, fotografa\, tanečnicu či rodenú herečku? U nás môže ich talent rásť a rozvíjať sa. Už viac ako 60 rokov učíme deti láske k umeniu a úspešne ich pripravujeme aj na štúdium na umeleckých školách.Srdečne vás pozývame na naše prijímacie skúšky do hudobného\, tanečného\, výtvarného\, literárno-dramatického odboru a do nového odboru audiovizuálnej a multimediálnej tvorby.Podrobnejšie informácie ku každému odboru aj k prijímacím skúškam nájdete na našich stránkach: \n\nHudobný odbor\nVýtvarný odbor\nTanečný odbor\nLiterárno-dramatický odbor\nAudiovizuálna a multimediálna tvorba\n\nZáujemcov prosíme o vypísanie elektronickej prihlášky.  \nE-prihlášku nájdete tu: E-prihláška.  Pozor na správny výber krajiny vpravo hore (CZ – SK).\nNávod\, ako na to\, nájdete v tomto videu: Ako vypísať e-prihlášku.
URL:https://www.zusdubnica.sk/podujatie/prijimacie-talentove-skusky/
CATEGORIES:Podujatia
ATTACH;FMTTYPE=image/jpeg:https://www.zusdubnica.sk/wp-content/uploads/2024/05/2024-PRIJiMAcKY_WEB_fin-01.jpg
END:VEVENT
BEGIN:VEVENT
DTSTART;TZID=Europe/Bratislava:20240511T163000
DTEND;TZID=Europe/Bratislava:20240511T183000
DTSTAMP:20260426T053056
CREATED:20240502T194148Z
LAST-MODIFIED:20240502T194148Z
UID:21401-1715445000-1715452200@www.zusdubnica.sk
SUMMARY:Pár slov tebe\, mama
DESCRIPTION:Koncert venovaný najdôležitejšej osobe v živote každého človeka odohráme v sobotu 11. mája vo veľkej sále Domu kultúry Dubnica nad Váhom. Predstavia sa na ňom žiaci zo všetkých 4 odborov našej školy. Okrem mám radi uvidíme samozrejme aj staré mamy\, tatinov\, dedkov\, susedky\, skrátka všetkých našich fanúšikov 🙂
URL:https://www.zusdubnica.sk/podujatie/par-slov-tebe-mama/
LOCATION:Dom kultúry Dubnica nad Váhom\, Bratislavská 435\, Dubnica nad Váhom\, 01841\, Slovenská republika
CATEGORIES:Koncert
ATTACH;FMTTYPE=image/jpeg:https://www.zusdubnica.sk/wp-content/uploads/2024/05/Par-slov-Tebe-mama-1920-1080-01.jpg
END:VEVENT
BEGIN:VEVENT
DTSTART;TZID=Europe/Bratislava:20240425T130000
DTEND;TZID=Europe/Bratislava:20240425T170000
DTSTAMP:20260426T053056
CREATED:20240408T195009Z
LAST-MODIFIED:20240408T195009Z
UID:21299-1714050000-1714064400@www.zusdubnica.sk
SUMMARY:Klavírne popoludnie
DESCRIPTION:Milé deti a pedagógovia najmä klavírneho oddelenia našej ZUŠ\, srdečne vás pozývame na tvorivý workshop s názvom Klavírne popoludnie. Program bude nasledovný: \n13.00 – Odborná prednáška\n„Hudobná artikulácia a využitie pedálu v rôznych štýlových obdobiach“ (Prednáša Mgr. art. Michael Berki\, ArtD.) \n14.30 – Interpretačné kurzy \n16.15 – Klavírny koncert študentov Konzervatória v Žiline \n  \nVstup na workshop je voľný 🙂
URL:https://www.zusdubnica.sk/podujatie/klavirne-popoludnie/
LOCATION:Dom kultúry Dubnica nad Váhom\, Bratislavská 435\, Dubnica nad Váhom\, 01841\, Slovenská republika
CATEGORIES:Podujatia
ATTACH;FMTTYPE=image/jpeg:https://www.zusdubnica.sk/wp-content/uploads/2024/04/2024-klavirne-popoludnie_web-01.jpg
END:VEVENT
BEGIN:VEVENT
DTSTART;TZID=Europe/Bratislava:20240422T140000
DTEND;TZID=Europe/Bratislava:20240426T180000
DTSTAMP:20260426T053056
CREATED:20240421T184444Z
LAST-MODIFIED:20240421T184836Z
UID:21339-1713794400-1714154400@www.zusdubnica.sk
SUMMARY:Zelená zbierka
DESCRIPTION:Na čo sú nám izbové rastliny? Nielenže čistia vzduch a vytvárajú v interiéri estetickejšie prostredie\, ale pomáhajú tiež s koncentráciou či rozvojom kreativity. Mnohé izbovky však vinou nevhodnej starostlivosti či zlého umiestnenia v byte trpia a často končia pri smetných nádobách. Pána učiteľa Siekla to hnevá a preto v nadväznosti na celosvetový Deň Zeme prišiel s nápadom verejnej zbierky izbových rastlín. \nAk máte doma rastlinky\, s ktorými si neviete rady\, prineste ich v ktorýkoľvek deň v týždni v čase od 14:00 do 18:00 do triedy pána učiteľa Siekla. \nVaše prebytočné\, smutné či zanedbané izbovky u nás dostanú zelený ozdravujúci wellness a následne ich rozdistribuujeme po triedach a chodbách\, kde budú prinášať radosť žiakom\, pedagógom aj návštevám 🙂 Pokiaľ by sa u vás našli prebytočné črepníky či substráty\, pokojne prineste aj tie\, určite sa budú hodiť. Za každú zachránenú rastlinku vám vopred ďakujeme 🙂
URL:https://www.zusdubnica.sk/podujatie/zelena-zbierka/
LOCATION:Dom kultúry Dubnica nad Váhom\, Bratislavská 435\, Dubnica nad Váhom\, 01841\, Slovenská republika
ATTACH;FMTTYPE=image/jpeg:https://www.zusdubnica.sk/wp-content/uploads/2024/04/2024-04-zbierka-rastlin-01.jpg
END:VEVENT
BEGIN:VEVENT
DTSTART;TZID=Europe/Bratislava:20240404T160000
DTEND;TZID=Europe/Bratislava:20240404T173000
DTSTAMP:20260426T053056
CREATED:20240328T204220Z
LAST-MODIFIED:20240330T204559Z
UID:21284-1712246400-1712251800@www.zusdubnica.sk
SUMMARY:Učiteľský koncert
DESCRIPTION:Príďte si vypočuť\, ako to znie a pozrieť\, ako to vyzerá\, keď si učitelia vymenia miesto na pódiu so žiakmi. Srdečne vás pozývame na koncert do koncertnej sály ZUŠ\, na ktorom vystúpia pedagógovia hudobného odboru a zároveň si budete môcť pozrieť práce pedagogičiek výtvarného odboru. 
URL:https://www.zusdubnica.sk/podujatie/ucitelsky-koncert/
LOCATION:Dom kultúry Dubnica nad Váhom\, Bratislavská 435\, Dubnica nad Váhom\, 01841\, Slovenská republika
CATEGORIES:Koncert
ATTACH;FMTTYPE=image/jpeg:https://www.zusdubnica.sk/wp-content/uploads/2024/03/zus_UcITElSKy_web24-01.jpg
END:VEVENT
BEGIN:VEVENT
DTSTART;TZID=Europe/Bratislava:20240321T163000
DTEND;TZID=Europe/Bratislava:20240321T173000
DTSTAMP:20260426T053056
CREATED:20240316T085854Z
LAST-MODIFIED:20240319T090056Z
UID:21276-1711038600-1711042200@www.zusdubnica.sk
SUMMARY:Marcový žiacky koncert
DESCRIPTION:Žiaci a pedagógovia hudobného odboru našej ZUŠ vás opäť všetkých srdečne pozývajú na marcový verejný žiacky koncert. Odohrá sa vo štvrtok 21. marca v koncertnej sále našej školy na 2. poschodí 🙂
URL:https://www.zusdubnica.sk/podujatie/marcovy-ziacky-koncert-2/
LOCATION:Dom kultúry Dubnica nad Váhom\, Bratislavská 435\, Dubnica nad Váhom\, 01841\, Slovenská republika
CATEGORIES:Koncert
ATTACH;FMTTYPE=image/jpeg:https://www.zusdubnica.sk/wp-content/uploads/2024/03/2024-ziacky_web-01.jpg
END:VEVENT
BEGIN:VEVENT
DTSTART;TZID=Europe/Bratislava:20240317T143000
DTEND;TZID=Europe/Bratislava:20240317T153000
DTSTAMP:20260426T053056
CREATED:20240312T213953Z
LAST-MODIFIED:20240312T213953Z
UID:21241-1710685800-1710689400@www.zusdubnica.sk
SUMMARY:Vynášanie a pálenie Moreny
DESCRIPTION:Deti z Detského folklórneho súboru Prvosienka srdečne pozývajú všetkých milovníkov jari\, aby sa prišli spolu s nimi symbolicky rozlúčiť s pani Zimou. Sprievod detí bude s Morenou putovať od Domu kultúry v Dubnici nad Váhom\, prejde popred Gymnázium a Morenu zapáli pri Dubnickom potoku. \nPríďte sa so zimou rozlúčiť i vy\, pokojne sa pridajte k nám do sprievodu 🙂 Začíname o 14:30 h.
URL:https://www.zusdubnica.sk/podujatie/vynasanie-a-palenie-moreny/
LOCATION:Dom kultúry Dubnica nad Váhom\, Bratislavská 435\, Dubnica nad Váhom\, 01841\, Slovenská republika
ATTACH;FMTTYPE=image/jpeg:https://www.zusdubnica.sk/wp-content/uploads/2024/03/Morena-01.jpg
END:VEVENT
BEGIN:VEVENT
DTSTART;TZID=Europe/Bratislava:20240215T163000
DTEND;TZID=Europe/Bratislava:20240215T173000
DTSTAMP:20260426T053056
CREATED:20240212T084319Z
LAST-MODIFIED:20240212T084319Z
UID:21196-1708014600-1708018200@www.zusdubnica.sk
SUMMARY:Valentínsky koncert
DESCRIPTION:Milí milovníci umenia a dobrej hudby\, vo štvrtok sa opäť vidíme na verejnom žiackom koncerte\, ktorý bude tentoraz okorenený láskou\, keďže tento týždeň oslavujeme sviatok všetkých zaľúbených.\nSrdečne pozývame
URL:https://www.zusdubnica.sk/podujatie/valentinsky-koncert/
LOCATION:Dom kultúry Dubnica nad Váhom\, Bratislavská 435\, Dubnica nad Váhom\, 01841\, Slovenská republika
CATEGORIES:Koncert
ATTACH;FMTTYPE=image/jpeg:https://www.zusdubnica.sk/wp-content/uploads/2024/02/2024-valentinsky-koncert_web-01-scaled.jpg
END:VEVENT
BEGIN:VEVENT
DTSTART;TZID=Europe/Bratislava:20240210T100000
DTEND;TZID=Europe/Bratislava:20240210T103000
DTSTAMP:20260426T053056
CREATED:20240209T080421Z
LAST-MODIFIED:20240209T080421Z
UID:21188-1707559200-1707561000@www.zusdubnica.sk
SUMMARY:DFS Prvosienka na fašiangoch
DESCRIPTION:Deti z nášho Detského folklórneho súboru Prvosienka budú súčasťou kultúrneho programu Dubnických fašiangov 2024. So svojím pásmom vystúpia v sobotu 10. februára 2024 na javisku pred Obchodným centrom ABC v Dubnici nad Váhom. Predpokladaný začiatok je o 10:00 h.
URL:https://www.zusdubnica.sk/podujatie/dfs-prvosienka-na-fasiangoch/
LOCATION:Námestie pred OC ABC\, Centrum I 40/101\, Dubnica nad Váhom\, Slovensko\, 01841\, Slovenská republika
CATEGORIES:Podujatia
ATTACH;FMTTYPE=image/jpeg:https://www.zusdubnica.sk/wp-content/uploads/2024/02/426279291_891259076339306_79981828685348432_n.jpg
ORGANIZER;CN="Oddelenie kult%C3%BAry Dubnica nad V%C3%A1hom":MAILTO:kultura@dubnica.eu
END:VEVENT
BEGIN:VEVENT
DTSTART;TZID=Europe/Bratislava:20231214T170000
DTEND;TZID=Europe/Bratislava:20231214T183000
DTSTAMP:20260426T053056
CREATED:20231205T072437Z
LAST-MODIFIED:20231214T072814Z
UID:20951-1702573200-1702578600@www.zusdubnica.sk
SUMMARY:Vianočný čas
DESCRIPTION:Milí milovníci umenia\, srdečne vás pozývame na náš tradičný veľký vianočný koncert\, ktorý sa bude konať tentoraz netradične vo štvrtok. Vystúpime len pre vás na doskách veľkej sály Mestského domu kultúry v Dubnici nad Váhom.
URL:https://www.zusdubnica.sk/podujatie/vianocny-cas/
LOCATION:Dom kultúry Dubnica nad Váhom\, Bratislavská 435\, Dubnica nad Váhom\, 01841\, Slovenská republika
CATEGORIES:Koncert
ATTACH;FMTTYPE=image/jpeg:https://www.zusdubnica.sk/wp-content/uploads/2023/12/ZUS-DCA_vianocny-koncert.jpg
END:VEVENT
BEGIN:VEVENT
DTSTART;TZID=Europe/Bratislava:20231204T160000
DTEND;TZID=Europe/Bratislava:20231204T170000
DTSTAMP:20260426T053056
CREATED:20231128T074321Z
LAST-MODIFIED:20231128T074321Z
UID:20923-1701705600-1701709200@www.zusdubnica.sk
SUMMARY:Mikulášsky koncert
DESCRIPTION:V mene žiakov nášho hudobného odboru vás srdečne pozývame na tohtoročný mikulášsky koncert. Vystúpia nielen žiaci z hudobného odboru ZUŠ Dubnica nad Váhom\, ale i žiaci z elokovaného pracoviska ZUŠ na ZŠ s MŠ Centrum I v Dubnici nad Váhom.\n \nPríďte nás podporiť svojou prítomnosťou do koncertnej sály na II. poschodí Domu kultúry v Dubnici nad Váhom. Srdečne pozývame! 🙂
URL:https://www.zusdubnica.sk/podujatie/mikulassky-koncert/
LOCATION:Koncertná sála ZUŠ\, Bratislavská 435/12\, Dubnica nad Váhom\, TN\, 01841
CATEGORIES:Koncert
ATTACH;FMTTYPE=image/png:https://www.zusdubnica.sk/wp-content/uploads/2023/11/405910869_912839937097641_7299504132256269109_n.png
END:VEVENT
BEGIN:VEVENT
DTSTART;TZID=Europe/Bratislava:20231116T163000
DTEND;TZID=Europe/Bratislava:20231116T173000
DTSTAMP:20260426T053056
CREATED:20231113T081419Z
LAST-MODIFIED:20231114T081914Z
UID:20880-1700152200-1700155800@www.zusdubnica.sk
SUMMARY:Novembrový žiacky koncert
DESCRIPTION:Milí milovníci umenia\, žiaci hudobného odboru vás srdečne pozývajú na novembrový verejný žiacky koncert. Príďte si spríjemniť štvrtok dúškom hudby 🙂
URL:https://www.zusdubnica.sk/podujatie/novembrovy-ziacky-koncert/
LOCATION:Koncertná sála ZUŠ\, Bratislavská 435/12\, Dubnica nad Váhom\, TN\, 01841
CATEGORIES:Koncert
ATTACH;FMTTYPE=image/jpeg:https://www.zusdubnica.sk/wp-content/uploads/2023/11/ZUS-2023-ziacky-_web_11-01.jpg
END:VEVENT
BEGIN:VEVENT
DTSTART;TZID=Europe/Bratislava:20231012T163000
DTEND;TZID=Europe/Bratislava:20231012T173000
DTSTAMP:20260426T053056
CREATED:20231010T080238Z
LAST-MODIFIED:20231010T080238Z
UID:20869-1697128200-1697131800@www.zusdubnica.sk
SUMMARY:Žiacky koncert
DESCRIPTION:Milí milovníci dobrej hudby\, žiaci z nášho hudobného odboru vás srdečne pozývajú na prvý verejný žiacky koncert v tomto školskom roku 🙂 Uskutoční sa tak ako obvykle v koncertnej sále ZUŠ na druhom poschodí. Očakávame vás už tento štvrtok o 16:30 hod 🙂
URL:https://www.zusdubnica.sk/podujatie/ziacky-koncert/
LOCATION:Dom kultúry Dubnica nad Váhom\, Bratislavská 435\, Dubnica nad Váhom\, 01841\, Slovenská republika
CATEGORIES:Koncert
ATTACH;FMTTYPE=image/jpeg:https://www.zusdubnica.sk/wp-content/uploads/2023/10/ZUS-2023-ziacky-_web-01.jpg
END:VEVENT
BEGIN:VEVENT
DTSTART;TZID=Europe/Bratislava:20230920T170000
DTEND;TZID=Europe/Bratislava:20230920T180000
DTSTAMP:20260426T053056
CREATED:20230909T200616Z
LAST-MODIFIED:20230909T200616Z
UID:20834-1695229200-1695232800@www.zusdubnica.sk
SUMMARY:Plenárne rodičovské stretnutie
DESCRIPTION:Milí rodičia\, srdečne vás pozývame na stretnutie plenárneho rodičovského združenia v termíne streda\, 20. september 2023 o 17:00 v koncertnej sále ZUŠ.
URL:https://www.zusdubnica.sk/podujatie/plenarne-rodicovske-stretnutie/
LOCATION:Dom kultúry Dubnica nad Váhom\, Bratislavská 435\, Dubnica nad Váhom\, 01841\, Slovenská republika
CATEGORIES:Podujatia
ATTACH;FMTTYPE=image/png:https://www.zusdubnica.sk/wp-content/uploads/2020/08/ZUS_upozornenie-web-01.png
END:VEVENT
BEGIN:VEVENT
DTSTART;TZID=Europe/Bratislava:20230914T140000
DTEND;TZID=Europe/Bratislava:20230914T170000
DTSTAMP:20260426T053056
CREATED:20230909T193259Z
LAST-MODIFIED:20230909T193512Z
UID:20829-1694700000-1694710800@www.zusdubnica.sk
SUMMARY:Dodatočné prijímacie skúšky
DESCRIPTION:Nestihli ste naše prvé májové prijímacie skúšky? Nevadí\, zopár voľných miest sa u nás vždy nájde:) Srdečne vás pozývame na dodatočné prijímacie talentové skúšky v týchto odboroch a predmetoch: \n\nTanečný odbor – moderný tanec\, ľudový tanec\nLiterárno-dramatický odbor – prednes\, pohyb\, práca v súbore\nHudobný odbor – predmet Hudba a počítač – hudobná produkcia\, tvorba hudobných aranžmánov\, práca s hudobným softvérom\, hra na keyboarde/\n\nSkúšky sa uskutočnia vo štvrtok\, 14. septembra 2023 v čase 14:00 – 17:00 v hlavnej budove ZUŠ (Bratislavská 435/12).  Záujemci si môžu vopred vypísať elektronickú prihlášku. Vypíšte ju online tu: e-prihláška.
URL:https://www.zusdubnica.sk/podujatie/dodatocne-prijimacie-skusky/
LOCATION:Dom kultúry Dubnica nad Váhom\, Bratislavská 435\, Dubnica nad Váhom\, 01841\, Slovenská republika
CATEGORIES:Podujatia
ATTACH;FMTTYPE=image/jpeg:https://www.zusdubnica.sk/wp-content/uploads/2023/09/2023-PRIJiMAcKY_WEB_dodatocne-01.jpg
END:VEVENT
BEGIN:VEVENT
DTSTART;TZID=Europe/Bratislava:20230628T170000
DTEND;TZID=Europe/Bratislava:20230628T180000
DTSTAMP:20260426T053056
CREATED:20230626T065117Z
LAST-MODIFIED:20230627T065756Z
UID:20643-1687971600-1687975200@www.zusdubnica.sk
SUMMARY:Absolventský koncert
DESCRIPTION:V závere roka sa vám v koncertnej sále ZUŠ predstavia naši absolventi  Ak by ste našu koncertnú sálu nevedeli nájsť\, je známa aj pod názvom miestnosť č. 104
URL:https://www.zusdubnica.sk/podujatie/absolventsky-koncert/
LOCATION:Dom kultúry Dubnica nad Váhom\, Bratislavská 435\, Dubnica nad Váhom\, 01841\, Slovenská republika
ATTACH;FMTTYPE=image/png:https://www.zusdubnica.sk/wp-content/uploads/2023/06/2023_absolventsky-koncert_2m-01.png
END:VEVENT
BEGIN:VEVENT
DTSTART;TZID=Europe/Bratislava:20230621T160000
DTEND;TZID=Europe/Bratislava:20230621T170000
DTSTAMP:20260426T053056
CREATED:20230615T114443Z
LAST-MODIFIED:20230618T114721Z
UID:20635-1687363200-1687366800@www.zusdubnica.sk
SUMMARY:Predstavenie Matilda
DESCRIPTION:Poznáte rozprávku Matilda od spisovateľa Roalda Dahla? Naši divadelníci z Detského divadelného súboru Mikádo vám ju zahrajú na doskách veľkej sály Domu kultúry v Dubnici nad Váhom už budúcu stredu. Srdečne pozývame na ich záverečné predstavenie v tomto školskom roku 🙂
URL:https://www.zusdubnica.sk/podujatie/predstavenie-matilda/
LOCATION:Dom kultúry Dubnica nad Váhom\, Bratislavská 435\, Dubnica nad Váhom\, 01841\, Slovenská republika
ATTACH;FMTTYPE=image/png:https://www.zusdubnica.sk/wp-content/uploads/2023/06/Matilda_web-01.png
END:VEVENT
BEGIN:VEVENT
DTSTART;TZID=Europe/Bratislava:20230608T140000
DTEND;TZID=Europe/Bratislava:20230609T170000
DTSTAMP:20260426T053056
CREATED:20230524T195712Z
LAST-MODIFIED:20230602T070914Z
UID:20609-1686232800-1686330000@www.zusdubnica.sk
SUMMARY:Prijímacie skúšky
DESCRIPTION:Milí rodičia\, máte doma nádejných hudobníkov\, výtvarníkov\, tanečnice či herečky? Prihláste svoje deti k nám\, pomôžeme im rozvíjať ich prirodzený talent. Prijímacie pohovory nie sú žiadne terno\, od detí nevyžadujeme žiadne superschopnosti či vedomosti\, skúmame formou zábavných cvičení a hier\, či majú predispozície na ten predmet\, na ktorý sa hlásite.\nDôležité info: prijímačky do všetkých 4 odborov budú prebiehať  v sídle ZUŠ (Dom kultúru Dubnica nad Váhom). Príjímacie skúšky do hudobného odboru budú prebiehať zároveň aj na elokovaných pracoviskách ZUŠ (ZŠ s MŠ Centrum I a ZŠ s MŠ Podháj). \nPodrobnejšie informácie k prijímacím skúškam jednotlivých odborov nájdete jedným klikom tu: \n\nHudobný odbor\nVýtvarný odbor\nTanečný odbor\nLiterárno-dramatický odbor
URL:https://www.zusdubnica.sk/podujatie/prijimacie-skusky-3/
LOCATION:Dom kultúry Dubnica nad Váhom\, Bratislavská 435\, Dubnica nad Váhom\, 01841\, Slovenská republika
CATEGORIES:Podujatia
ATTACH;FMTTYPE=image/jpeg:https://www.zusdubnica.sk/wp-content/uploads/2023/05/2023-PRIJiMAcKY_WEB-01.jpg
END:VEVENT
BEGIN:VEVENT
DTSTART;TZID=Europe/Bratislava:20230607T163000
DTEND;TZID=Europe/Bratislava:20230607T173000
DTSTAMP:20260426T053056
CREATED:20230605T072826Z
LAST-MODIFIED:20230606T073331Z
UID:20628-1686155400-1686159000@www.zusdubnica.sk
SUMMARY:Z rozprávky do rozprávky
DESCRIPTION:Srdečne vás pozývame na koncert našich najmenších z elokovaného pracoviska ZUŠ Dubnica nad Váhom na Základnej škole s materskou školou Centrum I v Dubnici nad Váhom. Koncert sa uskutoční u nás\, v koncertnej sále ZUŠ na 2. poschodí.
URL:https://www.zusdubnica.sk/podujatie/z-rozpravky-do-rozpravky/
LOCATION:Dom kultúry Dubnica nad Váhom\, Bratislavská 435\, Dubnica nad Váhom\, 01841\, Slovenská republika
ATTACH;FMTTYPE=image/png:https://www.zusdubnica.sk/wp-content/uploads/2023/06/2023_koncert-z-rozpravky-do-rozpravky_web-01.png
END:VEVENT
BEGIN:VEVENT
DTSTART;TZID=Europe/Bratislava:20230519T150000
DTEND;TZID=Europe/Bratislava:20230519T170000
DTSTAMP:20260426T053056
CREATED:20230510T062525Z
LAST-MODIFIED:20230516T063109Z
UID:20596-1684508400-1684515600@www.zusdubnica.sk
SUMMARY:ZUŠ v meste 2023
DESCRIPTION:Naši žiaci a pedagógovia sa opäť vydajú na cesty\, bližšie k vám\, do ulíc mesta Dubnica nad Váhom. Zahráme\, zaspievame\, zatancujeme a ukážeme svoje výtvarné cítenie na námestí pred obchodným centrom ABC a na pešej zóne pred obchodným domom Máj. Príďte nás podporiť a spríjemniť si piatkové popoludnie
URL:https://www.zusdubnica.sk/podujatie/zus-v-meste-2023/
LOCATION:Námestie pred OC ABC\, Centrum I 40/101\, Dubnica nad Váhom\, Slovensko\, 01841\, Slovenská republika
ATTACH;FMTTYPE=image/jpeg:https://www.zusdubnica.sk/wp-content/uploads/2023/05/2023_ZUS-v-meste_A4-01.jpg
END:VEVENT
BEGIN:VEVENT
DTSTART;TZID=Europe/Bratislava:20230513T163000
DTEND;TZID=Europe/Bratislava:20230513T180000
DTSTAMP:20260426T053056
CREATED:20230505T061421Z
LAST-MODIFIED:20230510T061932Z
UID:20579-1683995400-1684000800@www.zusdubnica.sk
SUMMARY:Koncert ...Tebe\, mama
DESCRIPTION:Milé maminy\, pri príležitosti Dňa matiek sme si už tradične pripravili pre vás\, naše najdôležitejšie bytosti\, veľký koncert plný hudby\, spevu\, tanca. Srdečne vás naň pozývame\, samozrejme\, príďte v spoločnosti ocinov\, vašich mám\, otcov či iných rodinných príslušníkov\, veď vo veľkej sále domu kultúry je miesta dosť pre všetkých 🙂
URL:https://www.zusdubnica.sk/podujatie/koncert-tebe-mama/
LOCATION:Dom kultúry Dubnica nad Váhom\, Bratislavská 435\, Dubnica nad Váhom\, 01841\, Slovenská republika
CATEGORIES:Koncert
ATTACH;FMTTYPE=image/jpeg:https://www.zusdubnica.sk/wp-content/uploads/2023/05/Tebe-mama_web.jpg
END:VEVENT
END:VCALENDAR