BEGIN:VCALENDAR
VERSION:2.0
PRODID:-//ZUŠ Dubnica nad Váhom - ECPv6.15.12.2//NONSGML v1.0//EN
CALSCALE:GREGORIAN
METHOD:PUBLISH
X-WR-CALNAME:ZUŠ Dubnica nad Váhom
X-ORIGINAL-URL:https://www.zusdubnica.sk
X-WR-CALDESC:Udalosti pre ZUŠ Dubnica nad Váhom
REFRESH-INTERVAL;VALUE=DURATION:PT1H
X-Robots-Tag:noindex
X-PUBLISHED-TTL:PT1H
BEGIN:VTIMEZONE
TZID:Europe/Bratislava
BEGIN:DAYLIGHT
TZOFFSETFROM:+0100
TZOFFSETTO:+0200
TZNAME:CEST
DTSTART:20250330T010000
END:DAYLIGHT
BEGIN:STANDARD
TZOFFSETFROM:+0200
TZOFFSETTO:+0100
TZNAME:CET
DTSTART:20251026T010000
END:STANDARD
BEGIN:DAYLIGHT
TZOFFSETFROM:+0100
TZOFFSETTO:+0200
TZNAME:CEST
DTSTART:20260329T010000
END:DAYLIGHT
BEGIN:STANDARD
TZOFFSETFROM:+0200
TZOFFSETTO:+0100
TZNAME:CET
DTSTART:20261025T010000
END:STANDARD
BEGIN:DAYLIGHT
TZOFFSETFROM:+0100
TZOFFSETTO:+0200
TZNAME:CEST
DTSTART:20270328T010000
END:DAYLIGHT
BEGIN:STANDARD
TZOFFSETFROM:+0200
TZOFFSETTO:+0100
TZNAME:CET
DTSTART:20271031T010000
END:STANDARD
END:VTIMEZONE
BEGIN:VEVENT
DTSTART;TZID=Europe/Bratislava:20260311T163000
DTEND;TZID=Europe/Bratislava:20260311T180000
DTSTAMP:20260426T052958
CREATED:20260305T143958Z
LAST-MODIFIED:20260305T143958Z
UID:26882-1773246600-1773252000@www.zusdubnica.sk
SUMMARY:Jarný koncert venovaný ženám
DESCRIPTION:
URL:https://www.zusdubnica.sk/podujatie/jarny-koncert-venovany-zenam/
CATEGORIES:Koncert
ATTACH;FMTTYPE=image/jpeg:https://www.zusdubnica.sk/wp-content/uploads/2026/03/image001-2-scaled.jpg
END:VEVENT
END:VCALENDAR