BEGIN:VCALENDAR
VERSION:2.0
PRODID:-//ZUŠ Dubnica nad Váhom - ECPv6.15.12.2//NONSGML v1.0//EN
CALSCALE:GREGORIAN
METHOD:PUBLISH
X-WR-CALNAME:ZUŠ Dubnica nad Váhom
X-ORIGINAL-URL:https://www.zusdubnica.sk
X-WR-CALDESC:Udalosti pre ZUŠ Dubnica nad Váhom
REFRESH-INTERVAL;VALUE=DURATION:PT1H
X-Robots-Tag:noindex
X-PUBLISHED-TTL:PT1H
BEGIN:VTIMEZONE
TZID:Europe/Bratislava
BEGIN:DAYLIGHT
TZOFFSETFROM:+0100
TZOFFSETTO:+0200
TZNAME:CEST
DTSTART:20230326T010000
END:DAYLIGHT
BEGIN:STANDARD
TZOFFSETFROM:+0200
TZOFFSETTO:+0100
TZNAME:CET
DTSTART:20231029T010000
END:STANDARD
BEGIN:DAYLIGHT
TZOFFSETFROM:+0100
TZOFFSETTO:+0200
TZNAME:CEST
DTSTART:20240331T010000
END:DAYLIGHT
BEGIN:STANDARD
TZOFFSETFROM:+0200
TZOFFSETTO:+0100
TZNAME:CET
DTSTART:20241027T010000
END:STANDARD
BEGIN:DAYLIGHT
TZOFFSETFROM:+0100
TZOFFSETTO:+0200
TZNAME:CEST
DTSTART:20250330T010000
END:DAYLIGHT
BEGIN:STANDARD
TZOFFSETFROM:+0200
TZOFFSETTO:+0100
TZNAME:CET
DTSTART:20251026T010000
END:STANDARD
BEGIN:DAYLIGHT
TZOFFSETFROM:+0100
TZOFFSETTO:+0200
TZNAME:CEST
DTSTART:20260329T010000
END:DAYLIGHT
BEGIN:STANDARD
TZOFFSETFROM:+0200
TZOFFSETTO:+0100
TZNAME:CET
DTSTART:20261025T010000
END:STANDARD
BEGIN:DAYLIGHT
TZOFFSETFROM:+0100
TZOFFSETTO:+0200
TZNAME:CEST
DTSTART:20270328T010000
END:DAYLIGHT
BEGIN:STANDARD
TZOFFSETFROM:+0200
TZOFFSETTO:+0100
TZNAME:CET
DTSTART:20271031T010000
END:STANDARD
END:VTIMEZONE
BEGIN:VEVENT
DTSTART;TZID=Europe/Bratislava:20260211T163000
DTEND;TZID=Europe/Bratislava:20260211T183000
DTSTAMP:20260426T041215
CREATED:20260305T143756Z
LAST-MODIFIED:20260305T143834Z
UID:26880-1770827400-1770834600@www.zusdubnica.sk
SUMMARY:Valentínsky koncert
DESCRIPTION:
URL:https://www.zusdubnica.sk/podujatie/valentinsky-koncert-2/
CATEGORIES:Koncert
ATTACH;FMTTYPE=image/jpeg:https://www.zusdubnica.sk/wp-content/uploads/2026/02/Valentinsky-koncert-resize-for-web-scaled.jpg
END:VEVENT
BEGIN:VEVENT
DTSTART;TZID=Europe/Bratislava:20260201T180000
DTEND;TZID=Europe/Bratislava:20260201T193000
DTSTAMP:20260426T041215
CREATED:20260115T114152Z
LAST-MODIFIED:20260115T114152Z
UID:26344-1769968800-1769974200@www.zusdubnica.sk
SUMMARY:Bábkar z Krakova
DESCRIPTION:Srdečne Vás pozývame na divadelné predstavenie\nBábkar z Krakova\,\nktoré sa uskutoční 1. februára 2026 o 18:00\nv KKC Hviezda v Trenčíne.\n\n\nVstupenky sú dostupné na stránke maxiticket.sk\nTešíme sa na Vás ZUŠ Dubnica nad Váhom
URL:https://www.zusdubnica.sk/podujatie/babkar-z-krakova-3/
CATEGORIES:Divadlo,Podujatia
ATTACH;FMTTYPE=image/jpeg:https://www.zusdubnica.sk/wp-content/uploads/2026/01/babkar-web-scaled.jpg
END:VEVENT
BEGIN:VEVENT
DTSTART;TZID=Europe/Bratislava:20251220T170000
DTEND;TZID=Europe/Bratislava:20251220T190000
DTSTAMP:20260426T041215
CREATED:20251126T194716Z
LAST-MODIFIED:20251201T121233Z
UID:25261-1766250000-1766257200@www.zusdubnica.sk
SUMMARY:Muzikál Vianoce sa rušia
DESCRIPTION:Srdečne Vás pozývame na muzikál Vianoce sa rušia 🙂 Rezervácia vstupeniek na telefónnom čísle: 0907 759 673
URL:https://www.zusdubnica.sk/podujatie/muzikal-vianoce-sa-rusia/
CATEGORIES:Divadlo
ATTACH;FMTTYPE=image/jpeg:https://www.zusdubnica.sk/wp-content/uploads/2025/12/Vianoce-sa-rusia-scaled.jpg
END:VEVENT
BEGIN:VEVENT
DTSTART;TZID=Europe/Bratislava:20251210T170000
DTEND;TZID=Europe/Bratislava:20251210T182000
DTSTAMP:20260426T041215
CREATED:20251121T141923Z
LAST-MODIFIED:20251121T142023Z
UID:25255-1765386000-1765390800@www.zusdubnica.sk
SUMMARY:Svetlo Vianoc 10. 12. 2025
DESCRIPTION:
URL:https://www.zusdubnica.sk/podujatie/svetlo-vianoc-10-12-2025/
ATTACH;FMTTYPE=image/jpeg:https://www.zusdubnica.sk/wp-content/uploads/2025/11/Vianocny-plagat-A3-anjeli-scaled.jpg
END:VEVENT
BEGIN:VEVENT
DTSTART;TZID=Europe/Bratislava:20251203T163000
DTEND;TZID=Europe/Bratislava:20251203T173000
DTSTAMP:20260426T041215
CREATED:20251201T095445Z
LAST-MODIFIED:20251201T095445Z
UID:25271-1764779400-1764783000@www.zusdubnica.sk
SUMMARY:Mikulášsky koncert
DESCRIPTION:Srdečne Vás pozývame na náš Mikulášsky koncert\, ktorý prinesie do adventného času radosť\, hudbu a kúzelnú sviatočnú atmosféru. Príďte si vychutnať vystúpenia plné talentu a dobrej nálady – tešíme sa na Vás!
URL:https://www.zusdubnica.sk/podujatie/mikulassky-koncert-2/
CATEGORIES:Koncert
ATTACH;FMTTYPE=image/jpeg:https://www.zusdubnica.sk/wp-content/uploads/2025/12/mikulassky-koncert-PLGAT-1-scaled.jpg
END:VEVENT
BEGIN:VEVENT
DTSTART;TZID=Europe/Bratislava:20251114T143000
DTEND;TZID=Europe/Bratislava:20251114T170000
DTSTAMP:20260426T041215
CREATED:20251121T141756Z
LAST-MODIFIED:20251121T141803Z
UID:25253-1763130600-1763139600@www.zusdubnica.sk
SUMMARY:Grafické partitúry 2
DESCRIPTION:
URL:https://www.zusdubnica.sk/podujatie/graficke-partitury-2/
END:VEVENT
BEGIN:VEVENT
DTSTART;TZID=Europe/Bratislava:20251112T163000
DTEND;TZID=Europe/Bratislava:20251112T180000
DTSTAMP:20260426T041215
CREATED:20251101T202747Z
LAST-MODIFIED:20251105T113241Z
UID:25155-1762965000-1762970400@www.zusdubnica.sk
SUMMARY:Jesenná harmónia koncert
DESCRIPTION:Príďte si s nami spestriť jeseň melódiami\, ktoré zaznejú na rôznych hudobných nástrojoch\, v podaní žiakov hudobného odboru našej ZUŠ. \n \n 
URL:https://www.zusdubnica.sk/podujatie/jesenna-harmonia-koncert/
END:VEVENT
BEGIN:VEVENT
DTSTART;TZID=Europe/Bratislava:20251019T170000
DTEND;TZID=Europe/Bratislava:20251019T190000
DTSTAMP:20260426T041215
CREATED:20251101T202135Z
LAST-MODIFIED:20251101T202135Z
UID:25151-1760893200-1760900400@www.zusdubnica.sk
SUMMARY:Bábkar z Krakova
DESCRIPTION:Pozývame vás na výnimočný umelecký zážitok v dojímavom príbehu o priateľstve\, odvahe a nádeji počas 2. svetovej vojny. Divadelné predstavenie Bábkar z Krakova je silným príbehom\, ktorý dokáže otvárať dôležité témy kúzelným spôsobom.\n\n\n19. októbra 2025 o 17:00 v Dome Kultúry v Dubnici nad Váhom.\n\n\nTešíme sa na vás
URL:https://www.zusdubnica.sk/podujatie/babkar-z-krakova-2/
END:VEVENT
BEGIN:VEVENT
DTSTART;TZID=Europe/Bratislava:20251015T163000
DTEND;TZID=Europe/Bratislava:20251015T180000
DTSTAMP:20260426T041215
CREATED:20251101T202455Z
LAST-MODIFIED:20251101T202455Z
UID:25153-1760545800-1760551200@www.zusdubnica.sk
SUMMARY:Jesenný koncert ZUŠ Dubnica nad Váhom
DESCRIPTION:Srdečne Vás pozývame milí rodičia a priatelia hudby na Jesenný koncert.
URL:https://www.zusdubnica.sk/podujatie/jesenny-koncert-zus-dubnica-nad-vahom/
END:VEVENT
BEGIN:VEVENT
DTSTART;TZID=Europe/Bratislava:20251010T143000
DTEND;TZID=Europe/Bratislava:20251010T170000
DTSTAMP:20260426T041215
CREATED:20251101T201915Z
LAST-MODIFIED:20251101T201915Z
UID:25149-1760106600-1760115600@www.zusdubnica.sk
SUMMARY:Grafické partitúry
DESCRIPTION:Naši žiaci sa budú mať možnosť ponoriť do sveta zvukov a tvorivého experimentovania! \nPočas workshopu objavujú\, ako možno zvuk vyjadriť spontánne a hravo. S veľkou dávkou fantázie vytvárajú vlastné zvukové kompozície\, ktoré odrážali ich jedinečný hudobný prejav.  \n\n\nVzniká tak pestrá mozaika nápadov\, smiechu a tvorivej energie – presne tak\, ako to má v umení byť! \nĎakujeme hudobnému skladateľovi Martinovi Jánošíkovi za kreatívny čas a tvorenie hudby – trochu inak
URL:https://www.zusdubnica.sk/podujatie/graficke-partitury/
END:VEVENT
BEGIN:VEVENT
DTSTART;TZID=Europe/Bratislava:20251002T150000
DTEND;TZID=Europe/Bratislava:20251002T163000
DTSTAMP:20260426T041215
CREATED:20251101T201446Z
LAST-MODIFIED:20251101T201644Z
UID:25144-1759417200-1759422600@www.zusdubnica.sk
SUMMARY:Plody dubnických záhrad
DESCRIPTION:Plody dubnických záhrad tento rok neponúkli len krásu ovocia a zeleniny\, ale aj bohatý kultúrny zážitok! \n\n\nNa podujatí sa predstavili naši žiaci a pedagógovia zo ZUŠ\, ktorí svojím spevom a recitáciou spríjemnili atmosféru výstavy. \nIch vystúpenia si získali obrovský potlesk a dojímavé reakcie publika – bolo to naozaj krásne zaspievané a precítene prednesené. \nSme na všetkých nesmierne hrdí!
URL:https://www.zusdubnica.sk/podujatie/plody-dubnickych-zahrad/
END:VEVENT
BEGIN:VEVENT
DTSTART;TZID=Europe/Bratislava:20250910T153000
DTEND;TZID=Europe/Bratislava:20250910T170000
DTSTAMP:20260426T041215
CREATED:20251101T201141Z
LAST-MODIFIED:20251101T201141Z
UID:25142-1757518200-1757523600@www.zusdubnica.sk
SUMMARY:Do práce na bicykli
DESCRIPTION:Odovzdávanie cien v rámci kampane Do práce na bicykli spríjemnili svojím talentom pedagógovia a žiaci našej ZUŠ. Jedinečná atmosféra dodala slávnostný ráz celému podujatiu.\nĎakujeme všetkým účinkujúcim\, ktorí svojím vystúpením reprezentovali našu školu a ukázali\, že umenie má v Dubnici nad Váhom pevné miesto. \nSrdečne gratulujeme našim kolegyniam\, ktoré si na podujatí prevzali ocenenie – sme hrdí\, že máme medzi sebou takéto inšpiratívne osobnosti.
URL:https://www.zusdubnica.sk/podujatie/do-prace-na-bicykli/
END:VEVENT
BEGIN:VEVENT
DTSTART;VALUE=DATE:20250829
DTEND;VALUE=DATE:20250901
DTSTAMP:20260426T041215
CREATED:20250814T080603Z
LAST-MODIFIED:20250828T081240Z
UID:23907-1756425600-1756684799@www.zusdubnica.sk
SUMMARY:Dubnický folklórny festival
DESCRIPTION:Naše deti z detského folklórneho súboru PRVOSIENKA uvidíte aj tento rok vystupovať na Dubnickom folklórnom festivale. Budeme súčasťou týchto výstupení počas festivalu: \n\n29.8.2025\n15:00 – 18:00 / Ako sa decka tancuvať učili – program detských folklórnych súborov\n30.8.2025\n11:00 / Chojíme\, chojíme hore Dubňicú – sprievod mestom\n31.8.2025\nSlávnostný galaprogram 31. Dubnického folklórneho festivalu\n\nKompletný program 31. Dubnického folklórneho festivalu spolu s informáciami o vstupenkách nájdete na stránke www.dff.sk
URL:https://www.zusdubnica.sk/podujatie/dubnicky-folklorny-festival/
LOCATION:Dubnický kaštieľ\, Námestie sv. Jakuba 623/5\, Dubnica nad Váhom\, 01841\, Slovenská republika
CATEGORIES:Podujatia
ATTACH;FMTTYPE=image/jpeg:https://www.zusdubnica.sk/wp-content/uploads/2025/08/DFF_2025_fb-baner_820-x-360-px.jpg
ORGANIZER;CN="Oddelenie kult%C3%BAry Dubnica nad V%C3%A1hom":MAILTO:kultura@dubnica.eu
END:VEVENT
BEGIN:VEVENT
DTSTART;TZID=Europe/Bratislava:20250620T170000
DTEND;TZID=Europe/Bratislava:20250620T180000
DTSTAMP:20260426T041215
CREATED:20250609T211207Z
LAST-MODIFIED:20250609T211219Z
UID:23180-1750438800-1750442400@www.zusdubnica.sk
SUMMARY:Výstava výtvarného odboru
DESCRIPTION:
URL:https://www.zusdubnica.sk/podujatie/vystava-vytvarneho-odboru/
LOCATION:Koncertná sála ZUŠ\, Bratislavská 435/12\, Dubnica nad Váhom\, TN\, 01841
CATEGORIES:Výstava
ATTACH;FMTTYPE=image/jpeg:https://www.zusdubnica.sk/wp-content/uploads/2025/06/Vystava_vytvarneho_odboru_jun_2025.jpg
END:VEVENT
BEGIN:VEVENT
DTSTART;TZID=Europe/Bratislava:20250619T170000
DTEND;TZID=Europe/Bratislava:20250619T183000
DTSTAMP:20260426T041215
CREATED:20250617T184203Z
LAST-MODIFIED:20250617T184732Z
UID:23188-1750352400-1750357800@www.zusdubnica.sk
SUMMARY:Koncert absolventov
DESCRIPTION:Srdečne pozývame na Absolventský koncert\, ktorý sa bude konať vo štvrtok 19.6. o 17hod v Koncertnej sále ZUŠ na 2.poschodí.
URL:https://www.zusdubnica.sk/podujatie/koncert-absolventov/
LOCATION:Koncertná sála ZUŠ\, Bratislavská 435/12\, Dubnica nad Váhom\, TN\, 01841
CATEGORIES:Koncert
ATTACH;FMTTYPE=image/jpeg:https://www.zusdubnica.sk/wp-content/uploads/2025/06/res_absolventsky-koncert-Dca2025.jpg
END:VEVENT
BEGIN:VEVENT
DTSTART;TZID=Europe/Bratislava:20250615T150000
DTEND;TZID=Europe/Bratislava:20250615T170000
DTSTAMP:20260426T041215
CREATED:20250609T210332Z
LAST-MODIFIED:20250609T211318Z
UID:23165-1749999600-1750006800@www.zusdubnica.sk
SUMMARY:Bábkar z Krakova
DESCRIPTION:Pozývame Vás na premiéru divadelného predstavenia žiakov Literárno-dramaatického odboru ZUŠ Dubnica nad Váhom s názvom Bábkar z Krakova.
URL:https://www.zusdubnica.sk/podujatie/babkar-z-krakova/
LOCATION:Dom kultúry Dubnica nad Váhom\, Bratislavská 435\, Dubnica nad Váhom\, 01841\, Slovenská republika
CATEGORIES:Divadlo
ATTACH;FMTTYPE=image/jpeg:https://www.zusdubnica.sk/wp-content/uploads/2025/06/Divadelne_predstavenie_babkar_z_Krakowa.jpg
END:VEVENT
BEGIN:VEVENT
DTSTART;TZID=Europe/Bratislava:20250605T163000
DTEND;TZID=Europe/Bratislava:20250605T180000
DTSTAMP:20260426T041215
CREATED:20250606T075814Z
LAST-MODIFIED:20250606T075814Z
UID:23162-1749141000-1749146400@www.zusdubnica.sk
SUMMARY:Klavírny koncert
DESCRIPTION:
URL:https://www.zusdubnica.sk/podujatie/klavirny-koncert-2/
LOCATION:Koncertná sála ZUŠ\, Bratislavská 435/12\, Dubnica nad Váhom\, TN\, 01841
ATTACH;FMTTYPE=image/jpeg:https://www.zusdubnica.sk/wp-content/uploads/2025/06/504426055_1327187262329571_5781958710765325276_n.jpg
END:VEVENT
BEGIN:VEVENT
DTSTART;TZID=Europe/Bratislava:20250525T160000
DTEND;TZID=Europe/Bratislava:20250525T180000
DTSTAMP:20260426T041215
CREATED:20250523T093733Z
LAST-MODIFIED:20250523T093733Z
UID:23128-1748188800-1748196000@www.zusdubnica.sk
SUMMARY:Dansation Dance Company
DESCRIPTION:25.5.2025 o 16.00hod v DK Dubnica nad Váhom sa na Vás tešíme na našom Dansation Dance Company predstavení
URL:https://www.zusdubnica.sk/podujatie/dansation-dance-company/
LOCATION:Dom kultúry Dubnica nad Váhom\, Bratislavská 435\, Dubnica nad Váhom\, 01841\, Slovenská republika
CATEGORIES:Koncert
ATTACH;FMTTYPE=image/jpeg:https://www.zusdubnica.sk/wp-content/uploads/2025/05/499272405_17931391536041911_3670594446417853905_n.jpg
END:VEVENT
BEGIN:VEVENT
DTSTART;TZID=Europe/Bratislava:20250522T160000
DTEND;TZID=Europe/Bratislava:20250522T170000
DTSTAMP:20260426T041215
CREATED:20250519T184828Z
LAST-MODIFIED:20250519T201349Z
UID:23116-1747929600-1747933200@www.zusdubnica.sk
SUMMARY:Organový koncert
DESCRIPTION:Srdečne Vás pozývame na Organový koncert nášho p. učiteľa Martina Augustína\, ktorý sa uskutoční už tento štvrtok 22.mája o 16hod v kostole sv. Jakuba v Dubnici nad Váhom. Ako hostia vystúpia: p. učiteľka Lucia Peťková so žiačkou Janou Jankechovou. \nZaznejú diela klasických majstrov až po súčasnú hudbu. Od budúceho školského roka bude možné v našej ZUŠ študovať nový odbor: Hru na organe. \nTešíme sa na Vás 🙂
URL:https://www.zusdubnica.sk/podujatie/organovy-koncert/
LOCATION:Kostol sv. Jakuba v Dubnici nad Váhom\, Námestie Sv. Jakuba 1/1\, Dubnica nad Váhom\, Trencianskykraj\, 01841\, Slovakia (Slovak Republic)
CATEGORIES:Koncert
ATTACH;FMTTYPE=image/jpeg:https://www.zusdubnica.sk/wp-content/uploads/2025/05/Untitled.jpg
END:VEVENT
BEGIN:VEVENT
DTSTART;TZID=Europe/Bratislava:20250518T160000
DTEND;TZID=Europe/Bratislava:20250518T180000
DTSTAMP:20260426T041215
CREATED:20250501T115739Z
LAST-MODIFIED:20250501T120704Z
UID:23007-1747584000-1747591200@www.zusdubnica.sk
SUMMARY:Láska je večná / koncert ku dňu matiek
DESCRIPTION:Koncert venovaný najdôležitejšej osobe v živote každého človeka odohráme v nedeľu 18. mája vo veľkej sále Domu kultúry Dubnica nad Váhom. Predstavia sa na ňom žiaci zo všetkých odborov našej školy. Okrem mám radi uvidíme samozrejme aj staré mamy\, tatinov\, dedkov\, susedky\, skrátka všetkých našich fanúšikov 🙂
URL:https://www.zusdubnica.sk/podujatie/laska-je-vecna-koncert-ku-dnu-matiek/
LOCATION:Dom kultúry Dubnica nad Váhom\, Bratislavská 435\, Dubnica nad Váhom\, 01841\, Slovenská republika
CATEGORIES:Koncert
ATTACH;FMTTYPE=image/png:https://www.zusdubnica.sk/wp-content/uploads/2025/05/Koncert-ku-dnu-matiek-Prispevok-na-Facebook.png
END:VEVENT
BEGIN:VEVENT
DTSTART;TZID=Europe/Bratislava:20250514T150000
DTEND;TZID=Europe/Bratislava:20250514T170000
DTSTAMP:20260426T041215
CREATED:20250513T081202Z
LAST-MODIFIED:20250513T081240Z
UID:23099-1747234800-1747242000@www.zusdubnica.sk
SUMMARY:ZUŠ v meste
DESCRIPTION:Ahojte 🙂 budúci týždeň sa naša ZUŠ „sťahuje“ do mesta\, mimo koncertných sál\, tanečných sál a ateliérov. Budete si môcť vypočuť a vidieť našich šikovných žiakov rovno v akcii 😉 vidíme sa v stredu 14.5. v čase 15:00-17:00hod na pešej zóne pri obchodnom centre Máj a pred obchodným domom ABC. Tešíme sa na vás ❤
URL:https://www.zusdubnica.sk/podujatie/zus-v-meste-2025/
LOCATION:Námestie pred OC ABC\, Centrum I 40/101\, Dubnica nad Váhom\, Slovensko\, 01841\, Slovenská republika
CATEGORIES:Podujatia
ATTACH;FMTTYPE=image/jpeg:https://www.zusdubnica.sk/wp-content/uploads/2025/05/495446489_1304087221306242_1717299140321796398_n.jpg
END:VEVENT
BEGIN:VEVENT
DTSTART;TZID=Europe/Bratislava:20250405T074500
DTEND;TZID=Europe/Bratislava:20250405T120000
DTSTAMP:20260426T041215
CREATED:20250323T184738Z
LAST-MODIFIED:20250323T185027Z
UID:22558-1743839100-1743854400@www.zusdubnica.sk
SUMMARY:Vo svete klavírnej hry / seminár
DESCRIPTION:Základná umelecká škola Dubnica nad Váhom Vás srdečne pozýva na odbornú prednášku pre\npedagógov hry na klavíri a klavírnych nadšencov s názvom \n„Interpretácia v elementárnej klavírnej výuke detí“ \nspojenú s otvorenými hodinami\, kde sa predstavia žiaci našej ZUŠ Dubnica nad Váhom. \n5. apríl 2025 (sobota) o 9.00 h \nKoncertná sála ZUŠ Dubnica nad Váhom na 2. poschodí\nBratislavská 435/12\, 018 41 Dubnica nad Váhom \nPozvanie k nám prijala renomovaná česká klaviristka\, pedagogička a autorka klavírnej školy\n„Můj klavír“ MgA. Eva Lorenc\, PhD. \nČasový harmonogram: \n\n07:45 – 08:45   Prezentácia\n09:00 – 10:30   Odborná prednáška „Interpretácia v elementárnej klavírnej výuke detí“\,  Lektorka: MgA. Eva Lorenc\, PhD.\n10:30 – 11:00   Prestávka\n11:00 – 12:00   Otvorené hodiny so žiakmi ZUŠ Dubnica nad Váhom\n\nPrihlasovanie je možné do 3. apríla 2025 na mail: sevcechova.zusdca@gmail.com \nÚčastnícky poplatok: 10 eur/pedagóg\, pozorovateľ \nPoplatok je možné uhradiť elektronicky: \nNázov – Rodičovské združenie pri ZUŠ DCA\nIBAN: SK23 8330 0000 0024 0239 8970\nVariabilný symbol: 042025\nSpráva pre príjemcu: meno a priezvisko \nKópiu uhradeného poplatku je potrebné poslať na mail: sevcechova.zusdca@gmail.com\nPo skončení bude možné si zakúpiť Klavírnu školu „Můj klavír“
URL:https://www.zusdubnica.sk/podujatie/vo-svete-klavirnej-hry/
LOCATION:Koncertná sála ZUŠ\, Bratislavská 435/12\, Dubnica nad Váhom\, TN\, 01841
CATEGORIES:Seminár
ATTACH;FMTTYPE=image/jpeg:https://www.zusdubnica.sk/wp-content/uploads/2025/03/Eva-Lorenc-seminar-plagat-scaled.jpg
END:VEVENT
BEGIN:VEVENT
DTSTART;TZID=Europe/Bratislava:20250327T170000
DTEND;TZID=Europe/Bratislava:20250327T183000
DTSTAMP:20260426T041215
CREATED:20250323T184135Z
LAST-MODIFIED:20250323T184320Z
UID:22554-1743094800-1743100200@www.zusdubnica.sk
SUMMARY:Koncert učiteľov
DESCRIPTION:Milí priatelia\, srdečne Vás pozývame do koncertnej sály ZUŠ Dubnica nad Váhom na 2. poschodí na umelecké popoludnie strávené pri klasickej\, ale i populárnej hudbe. V tento deň budete môcť zhliadnuť aj výtvarné diela našich pedagógov výtvarnych ateliérov. Po predstavení Vás čaká pohostenie vo forme recepcie. \nTešíme sa na Vás
URL:https://www.zusdubnica.sk/podujatie/koncert-ucitelov-marec-2025/
LOCATION:Koncertná sála ZUŠ\, Bratislavská 435/12\, Dubnica nad Váhom\, TN\, 01841
CATEGORIES:Koncert
ATTACH;FMTTYPE=image/png:https://www.zusdubnica.sk/wp-content/uploads/2025/03/ZUS_DCA_Koncert_ucitelov_marec-2025.png
END:VEVENT
BEGIN:VEVENT
DTSTART;TZID=Europe/Bratislava:20250213T163000
DTEND;TZID=Europe/Bratislava:20250213T180000
DTSTAMP:20260426T041215
CREATED:20250213T153005Z
LAST-MODIFIED:20250210T223930Z
UID:22062-1739464200-1739469600@www.zusdubnica.sk
SUMMARY:Valentínsky koncert
DESCRIPTION:Milí milovníci umenia a dobrej hudby\, vo štvrtok sa opäť vidíme na verejnom žiackom koncerte\, ktorý bude tentoraz okorenený láskou\, keďže tento týždeň oslavujeme sviatok všetkých zaľúbených.\n\nSrdečne pozývame
URL:https://www.zusdubnica.sk/podujatie/valentinsky-koncert-2025/
LOCATION:Koncertná sála ZUŠ\, Bratislavská 435/12\, Dubnica nad Váhom\, TN\, 01841
CATEGORIES:Koncert
ATTACH;FMTTYPE=image/png:https://www.zusdubnica.sk/wp-content/uploads/2025/02/Valentinsky-koncert-2025.png
END:VEVENT
BEGIN:VEVENT
DTSTART;TZID=Europe/Bratislava:20241106T170000
DTEND;TZID=Europe/Bratislava:20241106T183000
DTSTAMP:20260426T041215
CREATED:20241103T193159Z
LAST-MODIFIED:20250210T223909Z
UID:21733-1730912400-1730917800@www.zusdubnica.sk
SUMMARY:Koncert učiteľov
DESCRIPTION:Milí priatelia\, srdečne Vás pozývame do Dubnického kaštieľa na umelecké popoludnie strávené pri klasickej\, ale i populárnej hudbe. V tento deň budete môcť zhliadnuť aj výtvarné diela našich pedagógov výtvarnych ateliérov.\nPo predstavení Vás čaká pohostenie vo forme recepcie. \nTešíme sa na Vás
URL:https://www.zusdubnica.sk/podujatie/koncert-ucitelov/
LOCATION:Dubnický kaštieľ\, Námestie sv. Jakuba 623/5\, Dubnica nad Váhom\, 01841\, Slovenská republika
CATEGORIES:Koncert
ATTACH;FMTTYPE=image/jpeg:https://www.zusdubnica.sk/wp-content/uploads/2024/11/Koncert_Ucitelov_2024_WEB_IG.jpg
END:VEVENT
BEGIN:VEVENT
DTSTART;TZID=Europe/Bratislava:20240621T170000
DTEND;TZID=Europe/Bratislava:20240621T180000
DTSTAMP:20260426T041215
CREATED:20240618T204831Z
LAST-MODIFIED:20240618T204838Z
UID:21444-1718989200-1718992800@www.zusdubnica.sk
SUMMARY:Koncert dvoch tried
DESCRIPTION:Pán učiteľ Siekel a pán učiteľ Kulišík srdečne pozývajú všetkých\, nielen rodinných príslušníkov svojich žiakov\, na záverečný triedny koncert. Uskutoční sa v Dubnickom kaštieli v piatok o 17:00 h. Príďte si oddýchnuť po náročnom pracovnom týždni a naladiť sa na prichádzajúci víkend! 🙂
URL:https://www.zusdubnica.sk/podujatie/koncert-dvoch-tried/
LOCATION:Dubnický kaštieľ\, Námestie sv. Jakuba 623/5\, Dubnica nad Váhom\, 01841\, Slovenská republika
CATEGORIES:Koncert
ATTACH;FMTTYPE=image/png:https://www.zusdubnica.sk/wp-content/uploads/2024/06/2024_koncert-2-tried-01.png
END:VEVENT
BEGIN:VEVENT
DTSTART;TZID=Europe/Bratislava:20240620T170000
DTEND;TZID=Europe/Bratislava:20240620T180000
DTSTAMP:20260426T041215
CREATED:20240617T203846Z
LAST-MODIFIED:20240618T204233Z
UID:21441-1718902800-1718906400@www.zusdubnica.sk
SUMMARY:Koncert absolventov 2024
DESCRIPTION:Milí milovníci hudby\, aj tento rok vás pozývame na záverečný koncert našich žiakov z končiacich ročníkov – absolventov. Tešiť sa môžete na spev\, lahodné tóny klavíra\, huslí či burácajúci akordeón. Absolventi sa vám predstavia už tento štvrtok v našej koncertnej sále. Srdečne pozývame! 🙂
URL:https://www.zusdubnica.sk/podujatie/koncert-absolventov-2024/
LOCATION:Koncertná sála ZUŠ\, Bratislavská 435/12\, Dubnica nad Váhom\, TN\, 01841
CATEGORIES:Koncert
ATTACH;FMTTYPE=image/jpeg:https://www.zusdubnica.sk/wp-content/uploads/2024/06/2024_absolventsky-koncert-01.jpg
END:VEVENT
BEGIN:VEVENT
DTSTART;TZID=Europe/Bratislava:20240606T163000
DTEND;TZID=Europe/Bratislava:20240606T180000
DTSTAMP:20260426T041215
CREATED:20240528T191727Z
LAST-MODIFIED:20240530T192306Z
UID:21425-1717691400-1717696800@www.zusdubnica.sk
SUMMARY:Klavírny koncert
DESCRIPTION:Popoludnie plné lahodných tónov klavíra vám prinesú žiačky a žiaci zo všetkých klavírnych tried nášho hudobného odboru na spoločnom koncerte. Príďte si vypočuť\, kam sa za rok so svojimi zručnosťami dostali\, už vo štvrtok 6. júna 2024 v koncertnej sále našej ZUŠ.
URL:https://www.zusdubnica.sk/podujatie/klavirny-koncert/
LOCATION:Koncertná sála ZUŠ\, Bratislavská 435/12\, Dubnica nad Váhom\, TN\, 01841
CATEGORIES:Koncert,Podujatia
ATTACH;FMTTYPE=image/png:https://www.zusdubnica.sk/wp-content/uploads/2024/05/2024-05-klavirny_web-01.png
END:VEVENT
BEGIN:VEVENT
DTSTART;TZID=Europe/Bratislava:20240602T163000
DTEND;TZID=Europe/Bratislava:20240602T180000
DTSTAMP:20260426T041215
CREATED:20240528T192313Z
LAST-MODIFIED:20240530T195812Z
UID:21428-1717345800-1717351200@www.zusdubnica.sk
SUMMARY:Dansation Dance Company Show
DESCRIPTION:Tanečné predstavenie žiačok a žiakov zo súboru moderného tanca Dansation Dance Company pod vedením pani učiteľky Tancerovej si budete môcť vychutnať v nedeľu 2. júna 2024 vo veľkej sále Domu kultúry Dubnica nad Váhom. Srdečne pozývame! 🙂
URL:https://www.zusdubnica.sk/podujatie/dansation-dance-company-show/
LOCATION:Dom kultúry Dubnica nad Váhom\, Bratislavská 435\, Dubnica nad Váhom\, 01841\, Slovenská republika
CATEGORIES:Podujatia
ATTACH;FMTTYPE=image/jpeg:https://www.zusdubnica.sk/wp-content/uploads/2024/05/2024-06-DDC-show-01.jpg
END:VEVENT
BEGIN:VEVENT
DTSTART;TZID=Europe/Bratislava:20240529T140000
DTEND;TZID=Europe/Bratislava:20240530T170000
DTSTAMP:20260426T041215
CREATED:20240430T064936Z
LAST-MODIFIED:20240524T111603Z
UID:21376-1716991200-1717088400@www.zusdubnica.sk
SUMMARY:Prijímacie talentové skúšky
DESCRIPTION:Milí milovníci umenia\, máte doma malého hudobníka\, speváka\, výtvarníka\, žurnalistu\, fotografa\, tanečnicu či rodenú herečku? U nás môže ich talent rásť a rozvíjať sa. Už viac ako 60 rokov učíme deti láske k umeniu a úspešne ich pripravujeme aj na štúdium na umeleckých školách.Srdečne vás pozývame na naše prijímacie skúšky do hudobného\, tanečného\, výtvarného\, literárno-dramatického odboru a do nového odboru audiovizuálnej a multimediálnej tvorby.Podrobnejšie informácie ku každému odboru aj k prijímacím skúškam nájdete na našich stránkach: \n\nHudobný odbor\nVýtvarný odbor\nTanečný odbor\nLiterárno-dramatický odbor\nAudiovizuálna a multimediálna tvorba\n\nZáujemcov prosíme o vypísanie elektronickej prihlášky.  \nE-prihlášku nájdete tu: E-prihláška.  Pozor na správny výber krajiny vpravo hore (CZ – SK).\nNávod\, ako na to\, nájdete v tomto videu: Ako vypísať e-prihlášku.
URL:https://www.zusdubnica.sk/podujatie/prijimacie-talentove-skusky/
CATEGORIES:Podujatia
ATTACH;FMTTYPE=image/jpeg:https://www.zusdubnica.sk/wp-content/uploads/2024/05/2024-PRIJiMAcKY_WEB_fin-01.jpg
END:VEVENT
END:VCALENDAR