BEGIN:VCALENDAR
VERSION:2.0
PRODID:-//ZUŠ Dubnica nad Váhom - ECPv6.15.12.2//NONSGML v1.0//EN
CALSCALE:GREGORIAN
METHOD:PUBLISH
X-WR-CALNAME:ZUŠ Dubnica nad Váhom
X-ORIGINAL-URL:https://www.zusdubnica.sk
X-WR-CALDESC:Udalosti pre ZUŠ Dubnica nad Váhom
REFRESH-INTERVAL;VALUE=DURATION:PT1H
X-Robots-Tag:noindex
X-PUBLISHED-TTL:PT1H
BEGIN:VTIMEZONE
TZID:Europe/Bratislava
BEGIN:DAYLIGHT
TZOFFSETFROM:+0100
TZOFFSETTO:+0200
TZNAME:CEST
DTSTART:20250330T010000
END:DAYLIGHT
BEGIN:STANDARD
TZOFFSETFROM:+0200
TZOFFSETTO:+0100
TZNAME:CET
DTSTART:20251026T010000
END:STANDARD
BEGIN:DAYLIGHT
TZOFFSETFROM:+0100
TZOFFSETTO:+0200
TZNAME:CEST
DTSTART:20260329T010000
END:DAYLIGHT
BEGIN:STANDARD
TZOFFSETFROM:+0200
TZOFFSETTO:+0100
TZNAME:CET
DTSTART:20261025T010000
END:STANDARD
BEGIN:DAYLIGHT
TZOFFSETFROM:+0100
TZOFFSETTO:+0200
TZNAME:CEST
DTSTART:20270328T010000
END:DAYLIGHT
BEGIN:STANDARD
TZOFFSETFROM:+0200
TZOFFSETTO:+0100
TZNAME:CET
DTSTART:20271031T010000
END:STANDARD
END:VTIMEZONE
BEGIN:VEVENT
DTSTART;TZID=Europe/Bratislava:20260201T180000
DTEND;TZID=Europe/Bratislava:20260201T193000
DTSTAMP:20260426T024840
CREATED:20260115T114152Z
LAST-MODIFIED:20260115T114152Z
UID:26344-1769968800-1769974200@www.zusdubnica.sk
SUMMARY:Bábkar z Krakova
DESCRIPTION:Srdečne Vás pozývame na divadelné predstavenie\nBábkar z Krakova\,\nktoré sa uskutoční 1. februára 2026 o 18:00\nv KKC Hviezda v Trenčíne.\n\n\nVstupenky sú dostupné na stránke maxiticket.sk\nTešíme sa na Vás ZUŠ Dubnica nad Váhom
URL:https://www.zusdubnica.sk/podujatie/babkar-z-krakova-3/
CATEGORIES:Divadlo,Podujatia
ATTACH;FMTTYPE=image/jpeg:https://www.zusdubnica.sk/wp-content/uploads/2026/01/babkar-web-scaled.jpg
END:VEVENT
BEGIN:VEVENT
DTSTART;TZID=Europe/Bratislava:20260211T163000
DTEND;TZID=Europe/Bratislava:20260211T183000
DTSTAMP:20260426T024840
CREATED:20260305T143756Z
LAST-MODIFIED:20260305T143834Z
UID:26880-1770827400-1770834600@www.zusdubnica.sk
SUMMARY:Valentínsky koncert
DESCRIPTION:
URL:https://www.zusdubnica.sk/podujatie/valentinsky-koncert-2/
CATEGORIES:Koncert
ATTACH;FMTTYPE=image/jpeg:https://www.zusdubnica.sk/wp-content/uploads/2026/02/Valentinsky-koncert-resize-for-web-scaled.jpg
END:VEVENT
END:VCALENDAR